BEGIN:VCALENDAR
VERSION:2.0
PRODID:-//www.orienteering.lu//NONSGML kigkonsult.se iCalcreator 2.10.5//
METHOD:PUBLISH
X-WR-CALDESC:<p>First stage of the 'SaarlandCup'</p>
X-WR-TIMEZONE:Europe/Luxembourg
BEGIN:VEVENT
UID:20210420T192745CEST-21409aXhlU@www.orienteering.lu
DTSTAMP:20210420T170445Z
CREATED:20210207T214604Z
DESCRIPTION:First stage of the 'SaarlandCup'
DTSTART;VALUE=DATE:20210620
LAST-MODIFIED:20210207T214718Z
LOCATION:Bezirk Mitte\, Sarrebruck\, Regionalverband Saarbrücken\, Sarre\, 
 Allemagne (49.235870\, 6.982670\, 10)
ORGANIZER:MAILTO:someone
SUMMARY:Race in Saarbrücken
URL:https://www.orienteering.lu/en/calendar/events/race-in-saarbrucken/
END:VEVENT
END:VCALENDAR
