BEGIN:VCALENDAR
VERSION:2.0
PRODID:-//www.orienteering.lu//NONSGML kigkonsult.se iCalcreator 2.10.5//
METHOD:PUBLISH
X-WR-CALDESC:
X-WR-TIMEZONE:Europe/Luxembourg
BEGIN:VEVENT
UID:20210420T192751CEST-0181FjMzGu@www.orienteering.lu
DTSTAMP:20210420T170451Z
CREATED:20210207T213351Z
DESCRIPTION:
DTSTART;VALUE=DATE:20210703
DTEND;VALUE=DATE:20210704
LAST-MODIFIED:20210207T213444Z
LOCATION:Houffalize\, Bastogne\, Luxembourg\, Wallonie\, Belgique (50.14456
 6\, 5.784645\, 11)
ORGANIZER:MAILTO:someone
SUMMARY:Transforestière raid in Houffalize
URL:https://www.orienteering.lu/en/calendar/events/transforestiere-raid-in-
 houffalize/
END:VEVENT
END:VCALENDAR
