BEGIN:VCALENDAR
VERSION:2.0
PRODID:-//www.orienteering.lu//NONSGML kigkonsult.se iCalcreator 2.10.5//
METHOD:PUBLISH
X-WR-CALDESC:
X-WR-TIMEZONE:Europe/Luxembourg
BEGIN:VEVENT
UID:20210420T192748CEST-2623VSahxs@www.orienteering.lu
DTSTAMP:20210420T170448Z
CREATED:20210207T213117Z
DESCRIPTION:
DTSTART;VALUE=DATE:20210620
LAST-MODIFIED:20210207T213227Z
LOCATION:Robertville\, Waimes\, Verviers\, Liège\, Wallonie\, B-4950\, Belg
 ique (50.501965\, 6.092434\, 11)
ORGANIZER:MAILTO:someone
SUMMARY:Long distance race in Botrange
URL:https://www.orienteering.lu/en/calendar/events/long-distance-race-in-bo
 trange/
END:VEVENT
END:VCALENDAR
