BEGIN:VCALENDAR
VERSION:2.0
PRODID:-//www.orienteering.lu//NONSGML kigkonsult.se iCalcreator 2.10.5//
METHOD:PUBLISH
X-WR-CALDESC:
X-WR-TIMEZONE:Europe/Luxembourg
BEGIN:VEVENT
UID:20210420T192742CEST-2621w8DuJj@www.orienteering.lu
DTSTAMP:20210420T170442Z
CREATED:20210207T212934Z
DESCRIPTION:
DTSTART;VALUE=DATE:20210613
LAST-MODIFIED:20210207T213047Z
LOCATION:Rue de l'Hydrion\, Arlon\, Luxembourg\, Wallonie\, 6700\, Belgique
  (49.683929\, 5.794966\, 13)
ORGANIZER:MAILTO:someone
SUMMARY:Race in Arlon
URL:https://www.orienteering.lu/en/calendar/events/race-in-arlon/
END:VEVENT
END:VCALENDAR
