BEGIN:VCALENDAR
VERSION:2.0
PRODID:-//www.orienteering.lu//NONSGML kigkonsult.se iCalcreator 2.10.5//
METHOD:PUBLISH
X-WR-CALDESC:
X-WR-TIMEZONE:Europe/Luxembourg
BEGIN:VEVENT
UID:20210420T192759CEST-7557lTwhhP@www.orienteering.lu
DTSTAMP:20210420T170459Z
CREATED:20210207T210508Z
DESCRIPTION:
DTSTART;VALUE=DATE:20210704
LAST-MODIFIED:20210207T210622Z
LOCATION:Raffau\, Plappeville\, Metz\, Moselle\, Grand Est\, France métropo
 litaine\, 57050\, France (49.125538\, 6.115866\, 12)
ORGANIZER:MAILTO:someone
SUMMARY:Orienteering race in Plappeville
URL:https://www.orienteering.lu/en/calendar/events/orienteering-race-in-pla
 ppeville/
END:VEVENT
END:VCALENDAR
