BEGIN:VCALENDAR
VERSION:2.0
PRODID:-//www.orienteering.lu//NONSGML kigkonsult.se iCalcreator 2.10.5//
METHOD:PUBLISH
X-WR-CALDESC:<p>Orienteering weekend in 'Vosne Romanée'\, south of&nbsp\;Di
 jon.&nbsp\;3 races.</p>\n\n<ul>\n	<li>Day 1: http://adoc-chenove.org/index
 .php/en/competitions-en/stage-1</li>\n	<li>Day 2:&nbsp\;http://adoc-chenov
 e.org/index.php/en/competitions-en/stage-2</li>\n	<li>Day 3:&nbsp\;http://
 adoc-chenove.org/index.php/en/competitions-en/stage-3</li>\n</ul>\n\n<p>No
 t indicated on their website but an e-mail was sent on 9th March&nbsp\;abo
 ut cancellation/postponement&nbsp\;to all participants:</p>\n\n<blockquote
 >\n<p>'Dear orienteers\,</p>\n\n<p>We are now less than a month away from 
 the 3 days of Easter 2021. Everything is ready on our side\, but the situa
 tion is unfortunately no better than a year ago. The Ministry of Sports pr
 ohibits all 'amateur sport' events\, and the borders are closed with most 
 of the neighbouring countries\, such as Belgium or Switzerland.</p>\n\n<p>
 It is therefore with regret that we announce that our 3 days will not yet 
 take place in April this year. We are working on the possibility of postpo
 ning it to August\, as the specificities of the Natura 2000 zone\, which m
 akes up a good part of the *superb* map\, do not allow us to organise from
  May to July.</p>\n\n<p>We will of course keep you informed as soon as we 
 know more. We have invested a lot of time and energy in this organisation\
 , and really hope to see you soon.'</p>\n</blockquote>\n\n<p>&nbsp\;</p>
X-WR-TIMEZONE:Europe/Luxembourg
BEGIN:VEVENT
UID:20210420T192806CEST-0755VrK4gU@www.orienteering.lu
DTSTAMP:20210420T170406Z
CREATED:20210207T204631Z
DESCRIPTION:Orienteering weekend in 'Vosne Romanée'\, south of&nbsp\;Dijon.
 &nbsp\;3 races.\n\n\n	Day 1: http://adoc-chenove.org/index.php/en/competit
 ions-en/stage-1\n	Day 2:&nbsp\;http://adoc-chenove.org/index.php/en/compet
 itions-en/stage-2\n	Day 3:&nbsp\;http://adoc-chenove.org/index.php/en/comp
 etitions-en/stage-3\n\n\nNot indicated on their website but an e-mail was 
 sent on 9th March&nbsp\;about cancellation/postponement&nbsp\;to all parti
 cipants:\n\n\n'Dear orienteers\,\n\nWe are now less than a month away from
  the 3 days of Easter 2021. Everything is ready on our side\, but the situ
 ation is unfortunately no better than a year ago. The Ministry of Sports p
 rohibits all 'amateur sport' events\, and the borders are closed with most
  of the neighbouring countries\, such as Belgium or Switzerland.\n\nIt is 
 therefore with regret that we announce that our 3 days will not yet take p
 lace in April this year. We are working on the possibility of postponing i
 t to August\, as the specificities of the Natura 2000 zone\, which makes u
 p a good part of the *superb* map\, do not allow us to organise from May t
 o July.\n\nWe will of course keep you informed as soon as we know more. We
  have invested a lot of time and energy in this organisation\, and really 
 hope to see you soon.'\n\n\n&nbsp\;
DTSTART;VALUE=DATE:20210813
DTEND;VALUE=DATE:20210815
LAST-MODIFIED:20210328T111619Z
LOCATION:Moulin Baudoin\, Vosne-Romanée\, Beaune\, Côte-d'Or\, Bourgogne-Fr
 anche-Comté\, France métropolitaine\, 21700\, France (47.161823\, 4.961271
 \, 9)
ORGANIZER:MAILTO:someone
SUMMARY:Easter in Burgundy 2021
URL:https://www.orienteering.lu/en/calendar/events/easter-in-burgundy-2021/
END:VEVENT
END:VCALENDAR
