BEGIN:VCALENDAR
VERSION:2.0
PRODID:-//www.orienteering.lu//NONSGML kigkonsult.se iCalcreator 2.10.5//
METHOD:PUBLISH
X-WR-CALDESC:<p>Let's meet every Wednesday in Bambësch (by the bear statue\
 , at the entry of the vast playground) and have a run together. We will ru
 n easy and if needed can do several groups\, depending on the speed.</p>
 <p>Now a headlamp is a must.</p>\n\n<p>This is a club-only training\, limi
 ted in number of participants\, following the currently applied sanitary r
 estrictions.</p>
X-WR-TIMEZONE:Europe/Luxembourg
BEGIN:VEVENT
UID:20201210T214131CET-48028usdGn@www.orienteering.lu
DTSTAMP:20201210T201231Z
CREATED:20201109T112508Z
DESCRIPTION:Let's meet every Wednesday in Bambësch (by the bear statue\, at
  the entry of the vast playground) and have a run together. We will run ea
 sy and if needed can do several groups\, depending on the speed.\n\nNow a 
 headlamp is a must.\n\nThis is a club-only training\, limited in number of
  participants\, following the currently applied sanitary restrictions.
DTSTART:20201216T190000
DTEND:20201216T200000
LAST-MODIFIED:20201109T112910Z
LOCATION:Allée des Présidents\, Mühlenbach\, Muhlenbach\, Luxembourg\, Cant
 on Luxembourg\, 2241\, Luxembourg (49.632549\, 6.113348\, 15)
ORGANIZER:MAILTO:someone
SUMMARY:Wednesday evening running
URL:https://www.orienteering.lu/en/calendar/events/wednesday-evening-runnin
 g-2020-12-16/
END:VEVENT
END:VCALENDAR
