BEGIN:VCALENDAR
VERSION:2.0
PRODID:-//www.orienteering.lu//NONSGML kigkonsult.se iCalcreator 2.10.5//
METHOD:PUBLISH
X-WR-CALDESC:
X-WR-TIMEZONE:Europe/Luxembourg
BEGIN:VEVENT
UID:20201210T214136CET-5931OvuUwZ@www.orienteering.lu
DTSTAMP:20201210T201236Z
CREATED:20200923T225253Z
DESCRIPTION:
DTSTART;VALUE=DATE:20210124
LAST-MODIFIED:20200924T111909Z
LOCATION:Spa\, Liège\, Wallonie\, 4900\, Belgique (50.491589\, 5.861206\, 1
 1)
ORGANIZER:MAILTO:someone
SUMMARY:Race in Spa
URL:https://www.orienteering.lu/en/calendar/events/race-in-spa/
END:VEVENT
END:VCALENDAR
