BEGIN:VCALENDAR
VERSION:2.0
PRODID:-//www.orienteering.lu//NONSGML kigkonsult.se iCalcreator 2.10.5//
METHOD:PUBLISH
X-WR-CALDESC:<p>In Pokeyland fun park.</p>\n\n<p>Moselle night orienteering
  championship</p>
X-WR-TIMEZONE:Europe/Luxembourg
BEGIN:VEVENT
UID:20201210T214122CET-6806rw8JKo@www.orienteering.lu
DTSTAMP:20201210T201222Z
CREATED:20200923T224929Z
DESCRIPTION:In Pokeyland fun park.\n\nMoselle night orienteering championsh
 ip
DTSTART;VALUE=DATE:20201212
LAST-MODIFIED:20200924T111901Z
LOCATION:Le Clos des Noyers\, Féy\, Metz\, Moselle\, Grand Est\, France mét
 ropolitaine\, 57420\, France (49.022758\, 6.097069\, 14)
ORGANIZER:MAILTO:someone
SUMMARY:Night race in Fey
URL:https://www.orienteering.lu/en/calendar/events/night-race-in-fey/
END:VEVENT
END:VCALENDAR
