BEGIN:VCALENDAR
VERSION:2.0
PRODID:-//www.orienteering.lu//NONSGML kigkonsult.se iCalcreator 2.10.5//
METHOD:PUBLISH
X-WR-CALDESC:<p>Placeholder.</p>\n\n<p>Plans are afoot for the Club to orga
 nise another big <strong>City Race</strong> late next year. Ondra will be 
 the mastermind\, but the main organising tasks will be shared among our mo
 re experienced Members. The Ville de Luxembourg have already provisionally
  given the Club a green light to hold this City Race\, and confirmed our c
 hosen date of Sunday <strong>24 October 2021</strong>. We hope to combine 
 the City Race with a forest event\, using our new Bambesch map\, to take p
 lace on the previous afternoon. We are hopeful that this “<strong>Letzebue
 rg 2-deeg</strong>” event may even be included as part of the 2021 Euro To
 ur of City Race weekends.</p>\n\n<p>&nbsp\;</p>
X-WR-TIMEZONE:Europe/Luxembourg
BEGIN:VEVENT
UID:20201210T214140CET-3458GI7AVT@www.orienteering.lu
DTSTAMP:20201210T201240Z
CREATED:20200624T234147Z
DESCRIPTION:Placeholder.\n\nPlans are afoot for the Club to organise anothe
 r big City Race late next year. Ondra will be the mastermind\, but the mai
 n organising tasks will be shared among our more experienced Members. The 
 Ville de Luxembourg have already provisionally given the Club a green ligh
 t to hold this City Race\, and confirmed our chosen date of Sunday 24 Octo
 ber 2021. We hope to combine the City Race with a forest event\, using our
  new Bambesch map\, to take place on the previous afternoon. We are hopefu
 l that this “Letzebuerg 2-deeg” event may even be included as part of the 
 2021 Euro Tour of City Race weekends.\n\n&nbsp\;
DTSTART;VALUE=DATE:20211023
DTEND;VALUE=DATE:20211025
LAST-MODIFIED:20200924T111959Z
LOCATION: (0.000000\, 0.000000\, 11)
ORGANIZER:MAILTO:someone
SUMMARY:Forest and city weekend Luxembourg 2021
URL:https://www.orienteering.lu/en/calendar/events/forest-and-city-races-we
 ekend-luxembourg-2021/
END:VEVENT
END:VCALENDAR
